BEGIN:VCALENDAR
VERSION:2.0
PRODID:-//wp-events-plugin.com//7.2.3.1//EN
BEGIN:VEVENT
UID:27@genesis2-24.net
DTSTART;TZID=America/Indiana/Vincennes:20260724T183000
DTEND;TZID=America/Indiana/Vincennes:20260724T210000
DTSTAMP:20260403T152948Z
URL:https://genesis2-24.net/events/power-of-praise-worship-night-july/
SUMMARY:Power of Praise Worship Night (July 2026)
DESCRIPTION:The bands are booked\, the speaker is booked\, and the sound gu
 ys are ready. The parks department will have the park all cleaned up and r
 eady for your enjoyment. Come enjoy a great night of Worship and praise mu
 sic\, and a presentation of the Gospel. This will be one of the best event
 s of the Summer. Bring a picnic\, and come early to get the best seat.\n\n
 &nbsp\;
ATTACH;FMTTYPE=image/jpeg:https://genesis2-24.net/wp-content/uploads/2025/
 10/July-24-Event-Facebook-Post-Square.png
CATEGORIES:Night of Worship
LOCATION:Crossroads Park\, 101 E Tipton Street\, Seymour\, IN\, 47274\, Uni
 ted States
X-APPLE-STRUCTURED-LOCATION;VALUE=URI;X-ADDRESS=101 E Tipton Street\, Seymo
 ur\, IN\, 47274\, United States;X-APPLE-RADIUS=100;X-TITLE=Crossroads Park
 :geo:0,0
END:VEVENT
BEGIN:VTIMEZONE
TZID:America/Indiana/Vincennes
X-LIC-LOCATION:America/Indiana/Vincennes
BEGIN:DAYLIGHT
DTSTART:20260308T030000
TZOFFSETFROM:-0500
TZOFFSETTO:-0400
TZNAME:EDT
END:DAYLIGHT
END:VTIMEZONE
END:VCALENDAR