BEGIN:VCALENDAR
VERSION:2.0
PRODID:-//wp-events-plugin.com//7.2.3.1//EN
BEGIN:VEVENT
UID:30@genesis2-24.net
DTSTART;TZID=America/Indiana/Vincennes:20260925T183000
DTEND;TZID=America/Indiana/Vincennes:20260925T210000
DTSTAMP:20251027T180214Z
URL:https://genesis2-24.net/events/power-of-praise-worship-night-september
 -2026/
SUMMARY:Power of Praise Worship Night (September 2026)
DESCRIPTION:Save the Date. Powerful Praise and Worship bands will be announ
 ced as they are booked.\n\nTo stay informed as the bookings are completed\
 , TEXT: Summer Worship to 833-716-0375. We'll let you know via text.\n\n&n
 bsp\;
CATEGORIES:Night of Worship
LOCATION:Crossroads Park\, 101 E Tipton Street\, Seymour\, IN\, 47274\, Uni
 ted States
X-APPLE-STRUCTURED-LOCATION;VALUE=URI;X-ADDRESS=101 E Tipton Street\, Seymo
 ur\, IN\, 47274\, United States;X-APPLE-RADIUS=100;X-TITLE=Crossroads Park
 :geo:0,0
END:VEVENT
BEGIN:VTIMEZONE
TZID:America/Indiana/Vincennes
X-LIC-LOCATION:America/Indiana/Vincennes
BEGIN:DAYLIGHT
DTSTART:20260308T030000
TZOFFSETFROM:-0500
TZOFFSETTO:-0400
TZNAME:EDT
END:DAYLIGHT
END:VTIMEZONE
END:VCALENDAR