BEGIN:VCALENDAR
VERSION:2.0
PRODID:-//wp-events-plugin.com//7.2.3.1//EN
BEGIN:VEVENT
UID:26@genesis2-24.net
DTSTART;TZID=America/Indiana/Vincennes:20260626T190000
DTEND;TZID=America/Indiana/Vincennes:20260626T213000
DTSTAMP:20260417T195853Z
URL:https://genesis2-24.net/events/power-of-praise-worship-night-summer-se
 ries/
SUMMARY:Power of Praise Worship Night (June 2026)
DESCRIPTION:\n\nEnjoy the Power of Praise and Worship in a great green spac
 e right in the middle of Seymour\, Indiana.  Be sure to bring your lawn c
 hairs\, your dinner\, and all your friends and neighbors. This event will 
 feature "For the King"\, a local favorite. Pastor Matt Ward from Scottsbor
 o\, Alabama\, will open the evening with praise and worship. He will be fo
 llowed by a Gospel presentation from one of our local pastors. The evening
  will start at 7:00 PM. This event is free and open to the public\, so ple
 ase arrive early for the best seating.\n\n\n\n\n\n\n\n\n\n\n&nbsp\;\n\n\n
ATTACH;FMTTYPE=image/jpeg:https://genesis2-24.net/wp-content/uploads/2025/
 10/June-26-Power-of-Praise-Event-Post-Square.png
CATEGORIES:Night of Worship
LOCATION:Crossroads Park\, 101 E Tipton Street\, Seymour\, IN\, 47274\, Uni
 ted States
X-APPLE-STRUCTURED-LOCATION;VALUE=URI;X-ADDRESS=101 E Tipton Street\, Seymo
 ur\, IN\, 47274\, United States;X-APPLE-RADIUS=100;X-TITLE=Crossroads Park
 :geo:0,0
END:VEVENT
BEGIN:VTIMEZONE
TZID:America/Indiana/Vincennes
X-LIC-LOCATION:America/Indiana/Vincennes
BEGIN:DAYLIGHT
DTSTART:20260308T030000
TZOFFSETFROM:-0500
TZOFFSETTO:-0400
TZNAME:EDT
END:DAYLIGHT
END:VTIMEZONE
END:VCALENDAR